BEGIN:VCALENDAR
VERSION:2.0
PRODID:-//Sullivan County Public Library - ECPv6.15.17//NONSGML v1.0//EN
CALSCALE:GREGORIAN
METHOD:PUBLISH
X-WR-CALNAME:Sullivan County Public Library
X-ORIGINAL-URL:https://www.scpltn.org
X-WR-CALDESC:Events for Sullivan County Public Library
REFRESH-INTERVAL;VALUE=DURATION:PT1H
X-Robots-Tag:noindex
X-PUBLISHED-TTL:PT1H
BEGIN:VTIMEZONE
TZID:America/New_York
BEGIN:DAYLIGHT
TZOFFSETFROM:-0500
TZOFFSETTO:-0400
TZNAME:EDT
DTSTART:20250309T070000
END:DAYLIGHT
BEGIN:STANDARD
TZOFFSETFROM:-0400
TZOFFSETTO:-0500
TZNAME:EST
DTSTART:20251102T060000
END:STANDARD
BEGIN:DAYLIGHT
TZOFFSETFROM:-0500
TZOFFSETTO:-0400
TZNAME:EDT
DTSTART:20260308T070000
END:DAYLIGHT
BEGIN:STANDARD
TZOFFSETFROM:-0400
TZOFFSETTO:-0500
TZNAME:EST
DTSTART:20261101T060000
END:STANDARD
BEGIN:DAYLIGHT
TZOFFSETFROM:-0500
TZOFFSETTO:-0400
TZNAME:EDT
DTSTART:20270314T070000
END:DAYLIGHT
BEGIN:STANDARD
TZOFFSETFROM:-0400
TZOFFSETTO:-0500
TZNAME:EST
DTSTART:20271107T060000
END:STANDARD
END:VTIMEZONE
BEGIN:VEVENT
DTSTART;VALUE=DATE:20260423
DTEND;VALUE=DATE:20260426
DTSTAMP:20260424T055010
CREATED:20260303T181329Z
LAST-MODIFIED:20260326T141759Z
UID:10004885-1776902400-1777161599@www.scpltn.org
SUMMARY:FOSCPL Book Sale
DESCRIPTION:Held at the Old Blountville Middle School next door to the Blountville branch. Proceeds will go to fund programs at the Sullivan County Public Libraries. THURSDAY\, APRIL 23 – 5pm ’til 8pm – Pre-Sale for Friends of the Library Members – Interested in becoming a friend? Speak with desk staff at Blountville\, Bluff City\, Sullivan Garden or Bloomingdale for more information. \nFRIDAY\, APRIL 24TH and SATURDAY\, APRIL 25TH 10AM ’til 6PM – Open to the Public. Donations accepted by appointment.
URL:https://www.scpltn.org/event/foscpl-book-sale/
LOCATION:All Branches
CATEGORIES:All Branches
ATTACH;FMTTYPE=image/png:https://www.scpltn.org/wp-content/uploads/2026/03/SM-April26-EVENTS-4.png
END:VEVENT
BEGIN:VEVENT
DTSTART;TZID=America/New_York:20260424T100000
DTEND;TZID=America/New_York:20260424T110000
DTSTAMP:20260424T055010
CREATED:20260303T180744Z
LAST-MODIFIED:20260304T204408Z
UID:10004829-1777024800-1777028400@www.scpltn.org
SUMMARY:Bloomingdale: Chair Yoga
DESCRIPTION:It’s time to stretch our muscles! Come exercise with us at the Bloomingdale Branch Library twice a week on Mondays and Fridays at 10 am. We meet at the Bloomingdale Baptist Church Shelter Building to the right of the library\, behind the Bloomingdale Baptist Christian Activity Center. Parking is available behind the library. No registration needed.
URL:https://www.scpltn.org/event/bloomingdale-chair-yoga-33/
LOCATION:Bloomingdale Branch\, 3230 Van Horn Street\, Kingsport\, 37660\, United States
CATEGORIES:Bloomingdale Branch
ATTACH;FMTTYPE=image/png:https://www.scpltn.org/wp-content/uploads/2026/02/8.png
END:VEVENT
BEGIN:VEVENT
DTSTART;TZID=America/New_York:20260424T103000
DTEND;TZID=America/New_York:20260424T113000
DTSTAMP:20260424T055010
CREATED:20260303T181328Z
LAST-MODIFIED:20260304T203919Z
UID:10004883-1777026600-1777030200@www.scpltn.org
SUMMARY:Blountville: PreK Storytime and Activity with Ms. Nancy
DESCRIPTION:Pre-school story-time is for ages 2-5 to help build skills needed for entering school. This program includes picture book time along with activities or crafts that help children learn concepts and socialize with other children of the same age. Our themes are the same at each branch\, so if you miss the story-time at your branch you can always visit another. \nThis week’s theme is: Planes
URL:https://www.scpltn.org/event/blountville-storytime-with-ms-nancy-37/
LOCATION:Blountville Branch\, 1655 Blountville Blvd.\, Blountville\, TN\, 37617\, United States
CATEGORIES:Blountville Branch
ATTACH;FMTTYPE=image/png:https://www.scpltn.org/wp-content/uploads/2025/07/SM-AUGUST25-EVENTS-3.png
END:VEVENT
BEGIN:VEVENT
DTSTART;TZID=America/New_York:20260424T130000
DTEND;TZID=America/New_York:20260424T134500
DTSTAMP:20260424T055010
CREATED:20260303T181329Z
LAST-MODIFIED:20260312T123524Z
UID:10004884-1777035600-1777038300@www.scpltn.org
SUMMARY:Blountville: Magic Tree House book club
DESCRIPTION:During this monthly program\, Ms. Nancy will help kids new to chapter books read Tonight on the Titanic and Buffalo Before Breakfast books 17 and 18 of the series. This book club is also available on Zoom. Call the branch to get an invitation.
URL:https://www.scpltn.org/event/blountville-magic-tree-house-book-club-38/
LOCATION:Blountville Branch\, 1655 Blountville Blvd.\, Blountville\, TN\, 37617\, United States
CATEGORIES:Blountville Branch
ATTACH;FMTTYPE=image/png:https://www.scpltn.org/wp-content/uploads/2026/03/SM-MARCH26-EVENTS-1-1.png
END:VEVENT
BEGIN:VEVENT
DTSTART;TZID=America/New_York:20260424T140000
DTEND;TZID=America/New_York:20260424T150000
DTSTAMP:20260424T055010
CREATED:20260303T181329Z
LAST-MODIFIED:20260312T123241Z
UID:10004886-1777039200-1777042800@www.scpltn.org
SUMMARY:Blountville: Kids' Classics book club
DESCRIPTION:This book club is geared toward ages 6-12. This month we’ll be reading From the Mixed-Up Files of Mrs. Basil E. Frankweiler by E. L. Konigsburg. Can’t make it to Blountville? This book club can be joined live online through Zoom. Please call a couple of days prior to the meeting to request a link to our Zoom meeting
URL:https://www.scpltn.org/event/blountville-kids-classics-book-club-38/
LOCATION:Blountville Branch\, 1655 Blountville Blvd.\, Blountville\, TN\, 37617\, United States
CATEGORIES:Blountville Branch
ATTACH;FMTTYPE=image/png:https://www.scpltn.org/wp-content/uploads/2025/06/17-1.png
END:VEVENT
BEGIN:VEVENT
DTSTART;TZID=America/New_York:20260424T153000
DTEND;TZID=America/New_York:20260424T163000
DTSTAMP:20260424T055010
CREATED:20260303T180513Z
LAST-MODIFIED:20260312T122825Z
UID:10004806-1777044600-1777048200@www.scpltn.org
SUMMARY:Sullivan Gardens: "In the Garden" Storytime
DESCRIPTION:Join us for a special gardening storytime! Families will pick out veggie seeds from the Sullivan Gardens Seed Library and plant it in a folded newspaper “pot” that will decompose into the soil as the plant grows.
URL:https://www.scpltn.org/event/sullivan-gardens-in-the-garden-storytime/
LOCATION:Sullivan Gardens Branch\, 104 Bluegrass Drive\, Kingsport\, TN\, 37660\, United States
CATEGORIES:Sullivan Gardens Branch
ATTACH;FMTTYPE=image/png:https://www.scpltn.org/wp-content/uploads/2026/03/8.png
END:VEVENT
BEGIN:VEVENT
DTSTART;TZID=America/New_York:20260424T160000
DTEND;TZID=America/New_York:20260424T164500
DTSTAMP:20260424T055010
CREATED:20260303T180201Z
LAST-MODIFIED:20260312T122753Z
UID:10004792-1777046400-1777049100@www.scpltn.org
SUMMARY:Colonial Heights: Kids' Poetry Palooza
DESCRIPTION:Roses are red\, the library is neat\, join us on Fridays\, we saved you a seat! Celebrate National Poetry Month at the library. Each week we will discuss\, read\, and practice writing different types of poetry.
URL:https://www.scpltn.org/event/colonial-heights-kids-poetry-palooza-4/
LOCATION:Colonial Heights Branch\, 149 Pactolus Road\, Blountville\, TN\, 37663\, United States
CATEGORIES:Colonial Heights Branch
ATTACH;FMTTYPE=image/png:https://www.scpltn.org/wp-content/uploads/2026/03/5.png
END:VEVENT
BEGIN:VEVENT
DTSTART;TZID=America/New_York:20260425T100000
DTEND;TZID=America/New_York:20260425T110000
DTSTAMP:20260424T055010
CREATED:20260205T214733Z
LAST-MODIFIED:20260407T144542Z
UID:10005136-1777111200-1777114800@www.scpltn.org
SUMMARY:Thomas Memorial: Geri-Fit
DESCRIPTION:We will be hosting Geri-Fit. The participants will following along with a DVD to stretch\, strengthen\, and increase mobility.
URL:https://www.scpltn.org/event/thomas-memorial-geri-fit-420/2026-04-25/
LOCATION:Thomas Memorial Branch\, 481 Cedar Street\, Bluff City\, TN\, 37618\, United States
CATEGORIES:Thomas Memorial Branch
ATTACH;FMTTYPE=image/png:https://www.scpltn.org/wp-content/uploads/2025/06/GERI-FIT.png
END:VEVENT
BEGIN:VEVENT
DTSTART;TZID=America/New_York:20260425T143000
DTEND;TZID=America/New_York:20260425T153000
DTSTAMP:20260424T055010
CREATED:20260303T180514Z
LAST-MODIFIED:20260312T122721Z
UID:10004807-1777127400-1777131000@www.scpltn.org
SUMMARY:Sullivan Gardens: After Hours Springtime Music
DESCRIPTION:Come listen to the Mountain Laurel Winds Woodwind Quintet play a variety of springtime music for all ages! Attendees will learn about the five instruments that make up the quintet in between music pieces. Drinks and snacks will be provided. No registration is required.
URL:https://www.scpltn.org/event/sullivan-gardens-after-hours-springtime-music/
LOCATION:Sullivan Gardens Branch\, 104 Bluegrass Drive\, Kingsport\, TN\, 37660\, United States
CATEGORIES:Sullivan Gardens Branch
ATTACH;FMTTYPE=image/png:https://www.scpltn.org/wp-content/uploads/2026/03/4-1.png
END:VEVENT
BEGIN:VEVENT
DTSTART;TZID=America/New_York:20260427T100000
DTEND;TZID=America/New_York:20260427T104500
DTSTAMP:20260424T055010
CREATED:20260303T181330Z
LAST-MODIFIED:20260304T203013Z
UID:10004888-1777284000-1777286700@www.scpltn.org
SUMMARY:Blountville: Geri-Fit
DESCRIPTION:Geri- Fit is a strength training exercise class for mature adults or those with mobility challenges.
URL:https://www.scpltn.org/event/blountville-geri-fit-101/
LOCATION:Blountville Branch\, 1655 Blountville Blvd.\, Blountville\, TN\, 37617\, United States
CATEGORIES:Blountville Branch
ATTACH;FMTTYPE=image/png:https://www.scpltn.org/wp-content/uploads/2025/06/GERI-FIT.png
END:VEVENT
BEGIN:VEVENT
DTSTART;TZID=America/New_York:20260427T100000
DTEND;TZID=America/New_York:20260427T110000
DTSTAMP:20260424T055010
CREATED:20260303T180745Z
LAST-MODIFIED:20260304T202905Z
UID:10004830-1777284000-1777287600@www.scpltn.org
SUMMARY:Bloomingdale: Chair Yoga
DESCRIPTION:It’s time to stretch our muscles! Come exercise with us at the Bloomingdale Branch Library twice a week on Mondays and Fridays at 10 am. We meet at the Bloomingdale Baptist Church Shelter Building to the right of the library\, behind the Bloomingdale Baptist Christian Activity Center. Parking is available behind the library. No registration needed.
URL:https://www.scpltn.org/event/bloomingdale-chair-yoga-34/
LOCATION:Bloomingdale Branch\, 3230 Van Horn Street\, Kingsport\, 37660\, United States
CATEGORIES:Bloomingdale Branch
ATTACH;FMTTYPE=image/png:https://www.scpltn.org/wp-content/uploads/2026/02/8.png
END:VEVENT
BEGIN:VEVENT
DTSTART;TZID=America/New_York:20260427T103000
DTEND;TZID=America/New_York:20260427T110000
DTSTAMP:20260424T055010
CREATED:20260303T181329Z
LAST-MODIFIED:20260304T202714Z
UID:10004887-1777285800-1777287600@www.scpltn.org
SUMMARY:Blountville: Sing and Play Story-Time
DESCRIPTION:For infants through age 2\, our youngest patrons and their grown-ups can join us for a special time of bonding through songs and stories. Rhythm and play helps even the youngest among us prepare for reading and speech.
URL:https://www.scpltn.org/event/blountville-sing-and-play-story-time-37/
LOCATION:Blountville Branch\, 1655 Blountville Blvd.\, Blountville\, TN\, 37617\, United States
CATEGORIES:Blountville Branch
ATTACH;FMTTYPE=image/png:https://www.scpltn.org/wp-content/uploads/2025/06/5-3.png
END:VEVENT
BEGIN:VEVENT
DTSTART;TZID=America/New_York:20260427T130000
DTEND;TZID=America/New_York:20260427T140000
DTSTAMP:20260424T055010
CREATED:20260303T180514Z
LAST-MODIFIED:20260312T143728Z
UID:10004808-1777294800-1777298400@www.scpltn.org
SUMMARY:Sullivan Gardens: Chair Yoga
DESCRIPTION:Enjoy the benefits of gentle stretching with this staff-led chair yoga class! Chair yoga is an adapted yoga practice that allows you to stay seated while practicing yoga focused poses. No reservation is required\, and all stretching aids are provided.
URL:https://www.scpltn.org/event/sullivan-gardens-chair-yoga-2/
LOCATION:Sullivan Gardens Branch\, 104 Bluegrass Drive\, Kingsport\, TN\, 37660\, United States
CATEGORIES:Sullivan Gardens Branch
ATTACH;FMTTYPE=image/png:https://www.scpltn.org/wp-content/uploads/2026/03/SG_APRIL26-Events.png
END:VEVENT
BEGIN:VEVENT
DTSTART;TZID=America/New_York:20260427T153000
DTEND;TZID=America/New_York:20260427T163000
DTSTAMP:20260424T055010
CREATED:20260303T181330Z
LAST-MODIFIED:20260304T202427Z
UID:10004890-1777303800-1777307400@www.scpltn.org
SUMMARY:Blountville: Gentle Chair Yoga
DESCRIPTION:Chair yoga is an adapted yoga practice that allows you to stay seated while practicing yoga focused poses. No reservation required. Also available on Zoom by calling at least 2 days ahead to receive a Zoom invitation.
URL:https://www.scpltn.org/event/blountville-gentle-chair-yoga-49/
LOCATION:Blountville Branch\, 1655 Blountville Blvd.\, Blountville\, TN\, 37617\, United States
CATEGORIES:Blountville Branch
ATTACH;FMTTYPE=image/png:https://www.scpltn.org/wp-content/uploads/2025/09/SM-SEPT25-EVENTS-7.png
END:VEVENT
BEGIN:VEVENT
DTSTART;TZID=America/New_York:20260427T163000
DTEND;TZID=America/New_York:20260427T173000
DTSTAMP:20260424T055010
CREATED:20260303T181330Z
LAST-MODIFIED:20260306T183645Z
UID:10004889-1777307400-1777311000@www.scpltn.org
SUMMARY:*Blountville: Tween/Teen Dungeons & Dragons
DESCRIPTION:A beginner friendly Dungeons and Dragons campaign held monthly for ages 8-14. Explore worlds\, defeat monsters\, and make friends with other newcomers to the game. Registration required for new characters.
URL:https://www.scpltn.org/event/blountville-tween-teen-dungeons-dragons-8/
LOCATION:Blountville Branch\, 1655 Blountville Blvd.\, Blountville\, TN\, 37617\, United States
CATEGORIES:Blountville Branch
ATTACH;FMTTYPE=image/png:https://www.scpltn.org/wp-content/uploads/2025/08/SM-AUGUST25-EVENTS-1.png
END:VEVENT
BEGIN:VEVENT
DTSTART;TZID=America/New_York:20260428T100000
DTEND;TZID=America/New_York:20260428T110000
DTSTAMP:20260424T055010
CREATED:20260205T214734Z
LAST-MODIFIED:20260407T142822Z
UID:10004966-1777370400-1777374000@www.scpltn.org
SUMMARY:Thomas Memorial : Chair Yoga
DESCRIPTION:An adaptive yoga practice that involves sitting and standing\, with support.
URL:https://www.scpltn.org/event/thomas-memorial-chair-yoga-450/2026-04-28/
LOCATION:Thomas Memorial Branch\, 481 Cedar Street\, Bluff City\, TN\, 37618\, United States
CATEGORIES:Thomas Memorial Branch
ATTACH;FMTTYPE=image/png:https://www.scpltn.org/wp-content/uploads/2025/06/CHAIR-YOGA-2.png
END:VEVENT
BEGIN:VEVENT
DTSTART;TZID=America/New_York:20260428T103000
DTEND;TZID=America/New_York:20260428T110000
DTSTAMP:20260424T055010
CREATED:20260303T180745Z
LAST-MODIFIED:20260304T202055Z
UID:10004831-1777372200-1777374000@www.scpltn.org
SUMMARY:Bloomingdale: Baby Bookworms
DESCRIPTION:Bitty Baby Yoga\n\n\nThis will be a fun story time where we read books about\, but also learn yoga poses that create calm and bonding moments for grown ups and little ones.\n\n\n\nFor infants through age 2\, our youngest patrons and their grown-ups can join us for a special time of bonding through songs and stories. Rhythm and play helps even the youngest among us prepare for reading and speech. \nNo registration needed.
URL:https://www.scpltn.org/event/bloomingdale-baby-bookworms-4/
LOCATION:Bloomingdale Branch\, 3230 Van Horn Street\, Kingsport\, 37660\, United States
CATEGORIES:Bloomingdale Branch
ATTACH;FMTTYPE=image/png:https://www.scpltn.org/wp-content/uploads/2026/03/SB_March26_Events.png
END:VEVENT
BEGIN:VEVENT
DTSTART;TZID=America/New_York:20260428T104500
DTEND;TZID=America/New_York:20260428T233000
DTSTAMP:20260424T055010
CREATED:20260320T144121Z
LAST-MODIFIED:20260320T144320Z
UID:10005198-1777373100-1777419000@www.scpltn.org
SUMMARY:Thomas Memorial: PreK Storytime and Activity with Ms. Nancy
DESCRIPTION:Pre-school story-time is for ages 2-5 to help build skills needed for entering school. This program includes picture book time along with activities or crafts that help children learn concepts and socialize with other children of the same age. Our themes are the same at each branch\, so if you miss the story-time at your branch you can always visit another. \nThis week’s them is: Rockets!
URL:https://www.scpltn.org/event/thomas-memorial-prek-storytime-and-activity-with-ms-nancy-9/
LOCATION:Thomas Memorial Branch\, 481 Cedar Street\, Bluff City\, TN\, 37618\, United States
CATEGORIES:Thomas Memorial Branch
ATTACH;FMTTYPE=image/png:https://www.scpltn.org/wp-content/uploads/2025/07/SM-AUGUST25-EVENTS-4.png
END:VEVENT
BEGIN:VEVENT
DTSTART;TZID=America/New_York:20260428T110000
DTEND;TZID=America/New_York:20260428T114500
DTSTAMP:20260424T055010
CREATED:20260303T181016Z
LAST-MODIFIED:20260331T175813Z
UID:10004838-1777374000-1777376700@www.scpltn.org
SUMMARY:Thomas Memorial: Email 101 part 2
DESCRIPTION:Missed our first Email 101 session? No worries! Join us again! Having trouble using your email? We can help! Let us walk you through the basics of email use and shortcuts for smooth\, daily use. Bring us your questions and we will do our best to answer them\, as well as a thorough and detailed step-by-step walk-through of the emailing process.
URL:https://www.scpltn.org/event/email-101-part-2/
LOCATION:Thomas Memorial Branch\, 481 Cedar Street\, Bluff City\, TN\, 37618\, United States
CATEGORIES:Thomas Memorial Branch
ATTACH;FMTTYPE=image/png:https://www.scpltn.org/wp-content/uploads/2026/03/ST-APRIL-26-Events-6.png
END:VEVENT
BEGIN:VEVENT
DTSTART;TZID=America/New_York:20260428T110000
DTEND;TZID=America/New_York:20260428T120000
DTSTAMP:20260424T055010
CREATED:20260303T181330Z
LAST-MODIFIED:20260312T122558Z
UID:10004891-1777374000-1777377600@www.scpltn.org
SUMMARY:Blountville: Garden Club!
DESCRIPTION:Spread hap-pea-ness with us at our first Garden Club meeting of the season! Together\, we’ll work on prepping the garden beds. No registration required for manual garden work. Learning meetings will begin in May\, we’ll spend April preparing the garden beds.
URL:https://www.scpltn.org/event/blountville-garden-club/
LOCATION:Blountville Branch\, 1655 Blountville Blvd.\, Blountville\, TN\, 37617\, United States
CATEGORIES:Blountville Branch
ATTACH;FMTTYPE=image/png:https://www.scpltn.org/wp-content/uploads/2026/03/SM-April26-EVENTS.png
END:VEVENT
BEGIN:VEVENT
DTSTART;TZID=America/New_York:20260428T173000
DTEND;TZID=America/New_York:20260428T181500
DTSTAMP:20260424T055010
CREATED:20260312T144717Z
LAST-MODIFIED:20260312T151516Z
UID:10005190-1777397400-1777400100@www.scpltn.org
SUMMARY:Colonial Heights: After-Hours Technology Program - Library Catalog 101
DESCRIPTION:Join us as at the Colonial Heights Library as we take a deep dive into the Online Public Access Catalog – OPAC for short. Learn different ways of searching for books\, how to place holds\, renew items\, and more! No registrations is required\, but please bring your own internet capable device if possible.
URL:https://www.scpltn.org/event/colonial-heights-after-hours-technology-program-library-catalog-101/
LOCATION:Colonial Heights Branch\, 149 Pactolus Road\, Blountville\, TN\, 37663\, United States
CATEGORIES:Colonial Heights Branch
ATTACH;FMTTYPE=image/png:https://www.scpltn.org/wp-content/uploads/2026/03/SC_APRIL26-Events.png
END:VEVENT
BEGIN:VEVENT
DTSTART;TZID=America/New_York:20260428T173000
DTEND;TZID=America/New_York:20260428T183000
DTSTAMP:20260424T055010
CREATED:20260303T180528Z
LAST-MODIFIED:20260312T122420Z
UID:10004809-1777397400-1777401000@www.scpltn.org
SUMMARY:*Sullivan Gardens: After Hours- Pressed Flower Resin Pendants
DESCRIPTION:Bring the spring vibe to your next outfit or as a gift for a special lady in your life with a DIY resin necklace pendant! We will use pressed flowers and other decorations to create delicate pendants. All materials will be provided\, but feel free to bring your own pressed flowers if you would like! This program is for adults only\, and registration is required. Please register in person\, online or by phone by calling 423-349-5990
URL:https://www.scpltn.org/event/sullivan-gardens-after-hours-pressed-flower-resin-coasters/
LOCATION:Sullivan Gardens Branch\, 104 Bluegrass Drive\, Kingsport\, TN\, 37660\, United States
CATEGORIES:Sullivan Gardens Branch
ATTACH;FMTTYPE=image/png:https://www.scpltn.org/wp-content/uploads/2026/03/2.png
END:VEVENT
BEGIN:VEVENT
DTSTART;TZID=America/New_York:20260428T180000
DTEND;TZID=America/New_York:20260428T190000
DTSTAMP:20260424T055010
CREATED:20260303T181331Z
LAST-MODIFIED:20260304T201618Z
UID:10004892-1777399200-1777402800@www.scpltn.org
SUMMARY:Blountville: Zumba with Christina!
DESCRIPTION:Come join the party! We’re pleased to offer this free\, fast-paced dance class to our patrons. Learn some moves and shake it out weekly with certified ZIN instructor Christina! You can also Zumba on Zoom! Just call by the Monday before class to receive a Zoom Link
URL:https://www.scpltn.org/event/blountville-zumba-with-christina-43/
LOCATION:Blountville Branch\, 1655 Blountville Blvd.\, Blountville\, TN\, 37617\, United States
CATEGORIES:Blountville Branch
ATTACH;FMTTYPE=image/png:https://www.scpltn.org/wp-content/uploads/2025/06/2.png
END:VEVENT
BEGIN:VEVENT
DTSTART;TZID=America/New_York:20260429T090000
DTEND;TZID=America/New_York:20260429T100000
DTSTAMP:20260424T055010
CREATED:20260303T180203Z
LAST-MODIFIED:20260304T201540Z
UID:10004796-1777453200-1777456800@www.scpltn.org
SUMMARY:Colonial Heights: Chair Yoga
DESCRIPTION:Enjoy the benefits of gentle stretching with this volunteer-led chair yoga class! Chair yoga is an adapted yoga practice that allows you to stay seated while practicing yoga focused poses. No reservation is required\, and all stretching aids are provided.
URL:https://www.scpltn.org/event/colonial-heights-chair-yoga-98/
LOCATION:Colonial Heights Branch\, 149 Pactolus Road\, Blountville\, TN\, 37663\, United States
CATEGORIES:Colonial Heights Branch
ATTACH;FMTTYPE=image/png:https://www.scpltn.org/wp-content/uploads/2025/06/colonial-heights-chair-yoga.png
END:VEVENT
BEGIN:VEVENT
DTSTART;TZID=America/New_York:20260429T103000
DTEND;TZID=America/New_York:20260429T113000
DTSTAMP:20260424T055010
CREATED:20260303T180746Z
LAST-MODIFIED:20260304T201446Z
UID:10004832-1777458600-1777462200@www.scpltn.org
SUMMARY:Bloomingdale: PreK Storytime and Activity with Ms. Nancy
DESCRIPTION:Our pre-school story-time is great for kids ages 2-5 years old. Each week follows a theme that will help build skills for school while still being fun and entertaining for the kids. All branches have the same theme\, so if you miss the day at your regular branch you can attend at another. \nThis week’s theme is: Rockets!
URL:https://www.scpltn.org/event/bloomingdale-story-time-48/
LOCATION:Bloomingdale Branch\, 3230 Van Horn Street\, Kingsport\, 37660\, United States
CATEGORIES:Bloomingdale Branch
ATTACH;FMTTYPE=image/png:https://www.scpltn.org/wp-content/uploads/2025/07/SM-AUGUST25-EVENTS-6.png
END:VEVENT
BEGIN:VEVENT
DTSTART;TZID=America/New_York:20260429T130000
DTEND;TZID=America/New_York:20260429T150000
DTSTAMP:20260424T055010
CREATED:20260303T181331Z
LAST-MODIFIED:20260304T201407Z
UID:10004894-1777467600-1777474800@www.scpltn.org
SUMMARY:Blountville: Adult Knit & Crochet Group
DESCRIPTION:Join our knit and crochet group to work in the company of other fiber enthusiasts to work on your own projects or create useful items for our community. All skill levels welcome. Note: this is not a teaching workshop.
URL:https://www.scpltn.org/event/blountville-adult-knit-crochet-group-38/
LOCATION:Blountville Branch\, 1655 Blountville Blvd.\, Blountville\, TN\, 37617\, United States
CATEGORIES:Blountville Branch
ATTACH;FMTTYPE=image/png:https://www.scpltn.org/wp-content/uploads/2025/06/SatKnitCro.png
END:VEVENT
BEGIN:VEVENT
DTSTART;TZID=America/New_York:20260429T150000
DTEND;TZID=America/New_York:20260429T154500
DTSTAMP:20260424T055010
CREATED:20260303T181331Z
LAST-MODIFIED:20260304T201321Z
UID:10004893-1777474800-1777477500@www.scpltn.org
SUMMARY:Blountville: Geri-Fit
DESCRIPTION:Geri- Fit is a strength training exercise class for mature adults or those with mobility challenges.
URL:https://www.scpltn.org/event/blountville-geri-fit-102/
LOCATION:Blountville Branch\, 1655 Blountville Blvd.\, Blountville\, TN\, 37617\, United States
CATEGORIES:Blountville Branch
ATTACH;FMTTYPE=image/png:https://www.scpltn.org/wp-content/uploads/2025/06/GERI-FIT.png
END:VEVENT
BEGIN:VEVENT
DTSTART;TZID=America/New_York:20260429T150000
DTEND;TZID=America/New_York:20260429T160000
DTSTAMP:20260424T055010
CREATED:20260205T214710Z
LAST-MODIFIED:20260311T141527Z
UID:10005023-1777474800-1777478400@www.scpltn.org
SUMMARY:Thomas Memorial: Geri-Fit
DESCRIPTION:Geri- Fit is a strength training exercise class for mature adults or those with mobility challenges.
URL:https://www.scpltn.org/event/thomas-memorial-geri-fit-372/2026-04-29/
LOCATION:Thomas Memorial Branch\, 481 Cedar Street\, Bluff City\, TN\, 37618\, United States
CATEGORIES:Thomas Memorial Branch
ATTACH;FMTTYPE=image/png:https://www.scpltn.org/wp-content/uploads/2025/06/GERI-FIT.png
END:VEVENT
BEGIN:VEVENT
DTSTART;TZID=America/New_York:20260429T153000
DTEND;TZID=America/New_York:20260429T190000
DTSTAMP:20260424T055010
CREATED:20260312T163014Z
LAST-MODIFIED:20260312T163153Z
UID:10005192-1777476600-1777489200@www.scpltn.org
SUMMARY:CLOSING EARLY
DESCRIPTION:We will be closing early on Wednesday\, April 29th for staff training. \nOur branch will close at 3:30PM. \nNormal hours will resume on Thursday\, April 30th.
URL:https://www.scpltn.org/event/closing-early-2/
LOCATION:Bloomingdale Branch\, 3230 Van Horn Street\, Kingsport\, 37660\, United States
CATEGORIES:Bloomingdale Branch
END:VEVENT
BEGIN:VEVENT
DTSTART;TZID=America/New_York:20260429T153000
DTEND;TZID=America/New_York:20260429T190000
DTSTAMP:20260424T055010
CREATED:20260312T163057Z
LAST-MODIFIED:20260312T163057Z
UID:10005193-1777476600-1777489200@www.scpltn.org
SUMMARY:CLOSING EARLY
DESCRIPTION:We will be closing early on Wednesday\, April 29th for staff training. \nOur branch will close at 3:30PM. \nNormal hours will resume on Thursday\, April 30th.
URL:https://www.scpltn.org/event/closing-early-3/
LOCATION:Thomas Memorial Branch\, 481 Cedar Street\, Bluff City\, TN\, 37618\, United States
CATEGORIES:Thomas Memorial Branch
END:VEVENT
END:VCALENDAR