BEGIN:VCALENDAR
VERSION:2.0
PRODID:-//Sullivan County Public Library - ECPv6.15.17//NONSGML v1.0//EN
CALSCALE:GREGORIAN
METHOD:PUBLISH
X-WR-CALNAME:Sullivan County Public Library
X-ORIGINAL-URL:https://www.scpltn.org
X-WR-CALDESC:Events for Sullivan County Public Library
REFRESH-INTERVAL;VALUE=DURATION:PT1H
X-Robots-Tag:noindex
X-PUBLISHED-TTL:PT1H
BEGIN:VTIMEZONE
TZID:America/New_York
BEGIN:DAYLIGHT
TZOFFSETFROM:-0500
TZOFFSETTO:-0400
TZNAME:EDT
DTSTART:20240310T070000
END:DAYLIGHT
BEGIN:STANDARD
TZOFFSETFROM:-0400
TZOFFSETTO:-0500
TZNAME:EST
DTSTART:20241103T060000
END:STANDARD
BEGIN:DAYLIGHT
TZOFFSETFROM:-0500
TZOFFSETTO:-0400
TZNAME:EDT
DTSTART:20250309T070000
END:DAYLIGHT
BEGIN:STANDARD
TZOFFSETFROM:-0400
TZOFFSETTO:-0500
TZNAME:EST
DTSTART:20251102T060000
END:STANDARD
BEGIN:DAYLIGHT
TZOFFSETFROM:-0500
TZOFFSETTO:-0400
TZNAME:EDT
DTSTART:20260308T070000
END:DAYLIGHT
BEGIN:STANDARD
TZOFFSETFROM:-0400
TZOFFSETTO:-0500
TZNAME:EST
DTSTART:20261101T060000
END:STANDARD
END:VTIMEZONE
BEGIN:VEVENT
DTSTART;TZID=America/New_York:20251204T133000
DTEND;TZID=America/New_York:20251204T143000
DTSTAMP:20260422T042708
CREATED:20251103T170046Z
LAST-MODIFIED:20251118T174943Z
UID:2937-1764855000-1764858600@www.scpltn.org
SUMMARY:Colonial Heights: Christmas 101 with Daniel
DESCRIPTION:Why is there an evergreen tree in the living room? What is a Krampus? We will explore the traditions of the Christmas holiday season and where they come from. Recommended for ages 8-12
URL:https://www.scpltn.org/event/colonial-heights-christmas-101-with-daniel/
LOCATION:Colonial Heights Branch\, 149 Pactolus Road\, Blountville\, TN\, 37663\, United States
CATEGORIES:Colonial Heights Branch
END:VEVENT
END:VCALENDAR