BEGIN:VCALENDAR
VERSION:2.0
PRODID:-//Sullivan County Public Library - ECPv6.15.17//NONSGML v1.0//EN
CALSCALE:GREGORIAN
METHOD:PUBLISH
X-WR-CALNAME:Sullivan County Public Library
X-ORIGINAL-URL:https://www.scpltn.org
X-WR-CALDESC:Events for Sullivan County Public Library
REFRESH-INTERVAL;VALUE=DURATION:PT1H
X-Robots-Tag:noindex
X-PUBLISHED-TTL:PT1H
BEGIN:VTIMEZONE
TZID:America/New_York
BEGIN:DAYLIGHT
TZOFFSETFROM:-0500
TZOFFSETTO:-0400
TZNAME:EDT
DTSTART:20240310T070000
END:DAYLIGHT
BEGIN:STANDARD
TZOFFSETFROM:-0400
TZOFFSETTO:-0500
TZNAME:EST
DTSTART:20241103T060000
END:STANDARD
BEGIN:DAYLIGHT
TZOFFSETFROM:-0500
TZOFFSETTO:-0400
TZNAME:EDT
DTSTART:20250309T070000
END:DAYLIGHT
BEGIN:STANDARD
TZOFFSETFROM:-0400
TZOFFSETTO:-0500
TZNAME:EST
DTSTART:20251102T060000
END:STANDARD
BEGIN:DAYLIGHT
TZOFFSETFROM:-0500
TZOFFSETTO:-0400
TZNAME:EDT
DTSTART:20260308T070000
END:DAYLIGHT
BEGIN:STANDARD
TZOFFSETFROM:-0400
TZOFFSETTO:-0500
TZNAME:EST
DTSTART:20261101T060000
END:STANDARD
END:VTIMEZONE
BEGIN:VEVENT
DTSTART;TZID=America/New_York:20251003T140000
DTEND;TZID=America/New_York:20251003T150000
DTSTAMP:20260423T061220
CREATED:20250911T135034Z
LAST-MODIFIED:20250924T143801Z
UID:2598-1759500000-1759503600@www.scpltn.org
SUMMARY:Blountville: Kids' Classics Book Club- Bunnicula
DESCRIPTION:This book club is geared toward ages 6-12. This month we’ll be reading the 1979 classic Bunnicula by James and Deborah Howe\, together with Ms. Nancy. This Book Club can also be joined live by Zoom. If you’d like to join online please call the Blountville branch at 423-279-2714 to request an invitation. \n 
URL:https://www.scpltn.org/event/blountville-kids-classics-book-club-bunnicula/
LOCATION:Blountville Branch\, 1655 Blountville Blvd.\, Blountville\, TN\, 37617\, United States
CATEGORIES:Blountville Branch
ATTACH;FMTTYPE=image/png:https://www.scpltn.org/wp-content/uploads/2025/06/17-1.png
END:VEVENT
END:VCALENDAR